BEGIN:VCALENDAR
VERSION:2.0
BEGIN:VEVENT
URL:https://www.regionkronoberg.se/om-webbplatsen/kalender/anhorigutbildning-i-kognitiv-sjukdomdemens2/
DTSTART:20260420T120000Z
DTEND:20260420T140000Z
SUMMARY:Anhörigutbildning i kognitiv sjukdom/demens
DESCRIPTION:Välkommen på en utbildning som riktar sig till personer som har en närstående med kognitiv sjukdom/demens.\n\nLäs mer på regionkronoberg.se https://www.regionkronoberg.se/om-webbplatsen/kalender/anhorigutbildning-i-kognitiv-sjukdomdemens2/
LOCATION:Digitalt
X-ALT-DESC;FMTTYPE=text/html:<html><body>Välkommen på en utbildning som riktar sig till personer som har en närstående med kognitiv sjukdom/demens.<br /><br /><a href="https://www.regionkronoberg.se/om-webbplatsen/kalender/anhorigutbildning-i-kognitiv-sjukdomdemens2/">Läs mer på regionkronoberg.se</a></body></html>
END:VEVENT
END:VCALENDAR