BEGIN:VCALENDAR
VERSION:2.0
BEGIN:VEVENT
URL:https://www.regionkronoberg.se/om-webbplatsen/kalender/fran-smarta-till-styrka--nycklarna-till-en-hallbar-nacke-och-rygg22/
DTSTART:20260609T120000Z
DTEND:20260609T133000Z
SUMMARY:Från smärta till styrka – nycklarna till en hållbar nacke och rygg
DESCRIPTION:Välkommen till en inspirerande och lärorik digital träff där vi fokuserar på rygghälsa, förståelse och träning.\n\nLäs mer på regionkronoberg.se https://www.regionkronoberg.se/om-webbplatsen/kalender/fran-smarta-till-styrka--nycklarna-till-en-hallbar-nacke-och-rygg22/
LOCATION:
X-ALT-DESC;FMTTYPE=text/html:<html><body>Välkommen till en inspirerande och lärorik digital träff där vi fokuserar på rygghälsa, förståelse och träning.<br /><br /><a href="https://www.regionkronoberg.se/om-webbplatsen/kalender/fran-smarta-till-styrka--nycklarna-till-en-hallbar-nacke-och-rygg22/">Läs mer på regionkronoberg.se</a></body></html>
END:VEVENT
END:VCALENDAR