BEGIN:VCALENDAR
VERSION:2.0
BEGIN:VEVENT
URL:https://www.regionkronoberg.se/om-webbplatsen/kalender/jamstalldhet--bland-unga-i-kronobergs-lan-webbinarium/
DTSTART:20260526T120000Z
DTEND:20260526T123000Z
SUMMARY:Jämställdhet  bland unga i Kronobergs län, webbinarium
DESCRIPTION:Välkommen till en tema-halvtimme där vi fördjupar oss i könsskillnader i hälsa, utsatthet och levnadsvanor bland elever i årskurs 8.\n\nLäs mer på regionkronoberg.se https://www.regionkronoberg.se/om-webbplatsen/kalender/jamstalldhet--bland-unga-i-kronobergs-lan-webbinarium/
LOCATION:Teams
X-ALT-DESC;FMTTYPE=text/html:<html><body>Välkommen till en tema-halvtimme där vi fördjupar oss i könsskillnader i hälsa, utsatthet och levnadsvanor bland elever i årskurs 8.<br /><br /><a href="https://www.regionkronoberg.se/om-webbplatsen/kalender/jamstalldhet--bland-unga-i-kronobergs-lan-webbinarium/">Läs mer på regionkronoberg.se</a></body></html>
END:VEVENT
END:VCALENDAR