BEGIN:VCALENDAR
VERSION:2.0
BEGIN:VEVENT
URL:https://www.regionkronoberg.se/om-webbplatsen/kalender/lansering---plattform-for-jamlik-halsa/
DTSTART:20260527T110000Z
DTEND:20260527T120000Z
SUMMARY:Lansering - Plattform för jämlik hälsa
DESCRIPTION:Region Kronoberg vill göra det enklare att förstå hur hälsan ser ut i länet och var behoven är som störst. Därför har vi tagit fram Plattform för jämlik hälsa – en plattform där vi visualiserar befolk...\n\nLäs mer på regionkronoberg.se https://www.regionkronoberg.se/om-webbplatsen/kalender/lansering---plattform-for-jamlik-halsa/
LOCATION:Digitalt - länk skickas några dagar innan
X-ALT-DESC;FMTTYPE=text/html:<html><body>Region Kronoberg vill göra det enklare att förstå hur hälsan ser ut i länet och var behoven är som störst. Därför har vi tagit fram Plattform för jämlik hälsa – en plattform där vi visualiserar befolk...<br /><br /><a href="https://www.regionkronoberg.se/om-webbplatsen/kalender/lansering---plattform-for-jamlik-halsa/">Läs mer på regionkronoberg.se</a></body></html>
END:VEVENT
END:VCALENDAR