BEGIN:VCALENDAR
VERSION:2.0
BEGIN:VEVENT
URL:https://www.regionkronoberg.se/regional-utveckling/samhallsplanering/smarta-elsystem/kalender-smarta-elsystem/konferens-elberedskap/
DTSTART:20260826T100000Z
DTEND:20260827T100000Z
SUMMARY:Regional beredskap i kris och krig – hotbild, planering och samverkan
DESCRIPTION:Välkommen till en konferens med fokus på att gemensamt stärka elberedskapen i Kalmar och Kronobergs län.\n\nLäs mer på regionkronoberg.se https://www.regionkronoberg.se/regional-utveckling/samhallsplanering/smarta-elsystem/kalender-smarta-elsystem/konferens-elberedskap/
LOCATION:Kosta Boda Art Hotel
X-ALT-DESC;FMTTYPE=text/html:<html><body>Välkommen till en konferens med fokus på att gemensamt stärka elberedskapen i Kalmar och Kronobergs län.<br /><br /><a href="https://www.regionkronoberg.se/regional-utveckling/samhallsplanering/smarta-elsystem/kalender-smarta-elsystem/konferens-elberedskap/">Läs mer på regionkronoberg.se</a></body></html>
END:VEVENT
END:VCALENDAR