BEGIN:VCALENDAR
VERSION:2.0
BEGIN:VEVENT
URL:https://www.regionkronoberg.se/vardgivare/kalender-vardgivare/drop-in-kognition/
DTSTART:20260521T070000Z
DTEND:20260521T140000Z
SUMMARY:Drop-in kognition
DESCRIPTION:Tillfället vänder sig till arbetsterapeuter inom region, kommuner och privat vårdval.\n\nLäs mer på regionkronoberg.se https://www.regionkronoberg.se/vardgivare/kalender-vardgivare/drop-in-kognition/
LOCATION:Hjälpmedelscentralen, Sigfridsvägen 10 A, Växjö. Rum 2
X-ALT-DESC;FMTTYPE=text/html:<html><body>Tillfället vänder sig till arbetsterapeuter inom region, kommuner och privat vårdval.<br /><br /><a href="https://www.regionkronoberg.se/vardgivare/kalender-vardgivare/drop-in-kognition/">Läs mer på regionkronoberg.se</a></body></html>
END:VEVENT
END:VCALENDAR