BEGIN:VCALENDAR
VERSION:2.0
BEGIN:VEVENT
URL:https://www.regionkronoberg.se/vardgivare/kalender-vardgivare/fel-telefonnummer-pa-kallelse-fran-cosmic/
DTSTART:20260415T220000Z
DTEND:20260423T220000Z
SUMMARY:Fel telefonnummer på kallelse från Cosmic
DESCRIPTION:Efter senaste uppgraderingen av Cosmic hämtas ibland felaktigt telefonnummer för den aktuella vårdenheten in i kallelsen.\n\nLäs mer på regionkronoberg.se https://www.regionkronoberg.se/vardgivare/kalender-vardgivare/fel-telefonnummer-pa-kallelse-fran-cosmic/
LOCATION:
X-ALT-DESC;FMTTYPE=text/html:<html><body>Efter senaste uppgraderingen av Cosmic hämtas ibland felaktigt telefonnummer för den aktuella vårdenheten in i kallelsen.<br /><br /><a href="https://www.regionkronoberg.se/vardgivare/kalender-vardgivare/fel-telefonnummer-pa-kallelse-fran-cosmic/">Läs mer på regionkronoberg.se</a></body></html>
END:VEVENT
END:VCALENDAR