BEGIN:VCALENDAR
VERSION:2.0
BEGIN:VEVENT
URL:https://www.regionkronoberg.se/vardgivare/kalender-vardgivare/medkannande-samhalle/
DTSTART:20260504T130000Z
DTEND:20260504T140000Z
SUMMARY:Medkännande samhälle
DESCRIPTION:Välkommen till inspirationsföreläsning med Palliativt centrum.\n\nLäs mer på regionkronoberg.se https://www.regionkronoberg.se/vardgivare/kalender-vardgivare/medkannande-samhalle/
LOCATION:Zoom
X-ALT-DESC;FMTTYPE=text/html:<html><body>Välkommen till inspirationsföreläsning med Palliativt centrum.<br /><br /><a href="https://www.regionkronoberg.se/vardgivare/kalender-vardgivare/medkannande-samhalle/">Läs mer på regionkronoberg.se</a></body></html>
END:VEVENT
END:VCALENDAR