BEGIN:VCALENDAR
VERSION:2.0
BEGIN:VEVENT
URL:https://www.regionkronoberg.se/vardgivare/kalender-vardgivare/mekarkurs/
DTSTART:20260519T110000Z
DTEND:20260519T123000Z
SUMMARY:Mekarkurs
DESCRIPTION:Mekarkursen vänder sig till samtliga förskrivare inom barn- och ungdomshabiliteringen och genomförs i samband med barnhjälpmedelsträffen.\n\nLäs mer på regionkronoberg.se https://www.regionkronoberg.se/vardgivare/kalender-vardgivare/mekarkurs/
LOCATION:Hjälpmedelscentralen, Sigfridsvägen 10A. Rum 4.
X-ALT-DESC;FMTTYPE=text/html:<html><body>Mekarkursen vänder sig till samtliga förskrivare inom barn- och ungdomshabiliteringen och genomförs i samband med barnhjälpmedelsträffen.<br /><br /><a href="https://www.regionkronoberg.se/vardgivare/kalender-vardgivare/mekarkurs/">Läs mer på regionkronoberg.se</a></body></html>
END:VEVENT
END:VCALENDAR