BEGIN:VCALENDAR
VERSION:2.0
BEGIN:VEVENT
URL:https://www.regionkronoberg.se/vardgivare/kalender-vardgivare/palliativa-tematraffar/
DTSTART:20260901T073000Z
DTEND:20260901T100000Z
SUMMARY:Palliativa tematräffar
DESCRIPTION:Palliativt centrum är ett samarbete mellan Region Kronoberg, Linnéuniversitetet och länets åtta kommuner. Vi bjuder in till tematräffar med syftet att tillsammans utveckla och förbättra den palliativa...\n\nLäs mer på regionkronoberg.se https://www.regionkronoberg.se/vardgivare/kalender-vardgivare/palliativa-tematraffar/
LOCATION:Athena, Växjö sjukhus
X-ALT-DESC;FMTTYPE=text/html:<html><body>Palliativt centrum är ett samarbete mellan Region Kronoberg, Linnéuniversitetet och länets åtta kommuner. Vi bjuder in till tematräffar med syftet att tillsammans utveckla och förbättra den palliativa...<br /><br /><a href="https://www.regionkronoberg.se/vardgivare/kalender-vardgivare/palliativa-tematraffar/">Läs mer på regionkronoberg.se</a></body></html>
END:VEVENT
END:VCALENDAR