BEGIN:VCALENDAR
VERSION:2.0
BEGIN:VEVENT
URL:https://www.regionkronoberg.se/vardgivare/kalender-vardgivare/performance-lecture-interkulturella-vardmoten/
DTSTART:20260428T160000Z
DTEND:20260428T170000Z
SUMMARY:Performance Lecture: Interkulturella vårdmöten
DESCRIPTION:En Performance Lecture är en fusion mellan en föreställning och en akademisk föreläsning som Regionteatern presenterar i samarbete med Det kulturella universitetet vid Linnéuniversitetet och Kunskapsm...\n\nLäs mer på regionkronoberg.se https://www.regionkronoberg.se/vardgivare/kalender-vardgivare/performance-lecture-interkulturella-vardmoten/
LOCATION:Regionteatern Växjö
X-ALT-DESC;FMTTYPE=text/html:<html><body>En Performance Lecture är en fusion mellan en föreställning och en akademisk föreläsning som Regionteatern presenterar i samarbete med Det kulturella universitetet vid Linnéuniversitetet och Kunskapsm...<br /><br /><a href="https://www.regionkronoberg.se/vardgivare/kalender-vardgivare/performance-lecture-interkulturella-vardmoten/">Läs mer på regionkronoberg.se</a></body></html>
END:VEVENT
END:VCALENDAR