BEGIN:VCALENDAR
VERSION:2.0
BEGIN:VEVENT
URL:https://www.regionkronoberg.se/vardgivare/kalender-vardgivare/specialiserad-palliativ-vard3/
DTSTART:20261007T063000Z
DTEND:20261007T140000Z
SUMMARY:Föreläsningar specialiserad palliativ vård
DESCRIPTION:En heldag med fyra föreläsningar om specialiserad palliativ vård. Det är möjligt att anmäla sig till hela dagen eller till enskilda föreläsningar.\n\nLäs mer på regionkronoberg.se https://www.regionkronoberg.se/vardgivare/kalender-vardgivare/specialiserad-palliativ-vard3/
LOCATION:Galaxen, Ljungby sjukhus
X-ALT-DESC;FMTTYPE=text/html:<html><body>En heldag med fyra föreläsningar om specialiserad palliativ vård. Det är möjligt att anmäla sig till hela dagen eller till enskilda föreläsningar.<br /><br /><a href="https://www.regionkronoberg.se/vardgivare/kalender-vardgivare/specialiserad-palliativ-vard3/">Läs mer på regionkronoberg.se</a></body></html>
END:VEVENT
END:VCALENDAR