BEGIN:VCALENDAR
VERSION:2.0
BEGIN:VEVENT
URL:https://www.regionkronoberg.se/vardgivare/kalender-vardgivare/workshop---ogonstyrning/
DTSTART:20260526T070000Z
DTEND:20260526T100000Z
SUMMARY:Workshop - ögonstyrning
DESCRIPTION:Workshopen vänder sig till både nya förskrivande logopeder samt de logopeder som redan arbetat en del med ögonstyrning\n\nLäs mer på regionkronoberg.se https://www.regionkronoberg.se/vardgivare/kalender-vardgivare/workshop---ogonstyrning/
LOCATION:Hjälpmedelscentralen, Sigfridsvägen 10A, Växjö. Rum 4 - 5
X-ALT-DESC;FMTTYPE=text/html:<html><body>Workshopen vänder sig till både nya förskrivande logopeder samt de logopeder som redan arbetat en del med ögonstyrning<br /><br /><a href="https://www.regionkronoberg.se/vardgivare/kalender-vardgivare/workshop---ogonstyrning/">Läs mer på regionkronoberg.se</a></body></html>
END:VEVENT
END:VCALENDAR