BEGIN:VCALENDAR
VERSION:2.0
BEGIN:VEVENT
URL:https://www.regionkronoberg.se/vardgivare/kompetens-utveckling/forskning-och-utveckling-fou/kalender-fou/doktorandkollegiet2/
DTSTART:20260512T110000Z
DTEND:20260512T140000Z
SUMMARY:Doktorandkollegiet
DESCRIPTION:\n\nLäs mer på regionkronoberg.se https://www.regionkronoberg.se/vardgivare/kompetens-utveckling/forskning-och-utveckling-fou/kalender-fou/doktorandkollegiet2/
LOCATION:
X-ALT-DESC;FMTTYPE=text/html:<html><body><br /><br /><a href="https://www.regionkronoberg.se/vardgivare/kompetens-utveckling/forskning-och-utveckling-fou/kalender-fou/doktorandkollegiet2/">Läs mer på regionkronoberg.se</a></body></html>
END:VEVENT
END:VCALENDAR