BEGIN:VCALENDAR
VERSION:2.0
BEGIN:VEVENT
URL:https://www.regionkronoberg.se/vardgivare/kompetens-utveckling/forskning-och-utveckling-fou/kalender-fou/forskningsetiska-radet4/
DTSTART:20260507T110000Z
DTEND:20260507T121500Z
SUMMARY:Forskningsetiska rådet
DESCRIPTION:\n\nLäs mer på regionkronoberg.se https://www.regionkronoberg.se/vardgivare/kompetens-utveckling/forskning-och-utveckling-fou/kalender-fou/forskningsetiska-radet4/
LOCATION:Astrakan
X-ALT-DESC;FMTTYPE=text/html:<html><body><br /><br /><a href="https://www.regionkronoberg.se/vardgivare/kompetens-utveckling/forskning-och-utveckling-fou/kalender-fou/forskningsetiska-radet4/">Läs mer på regionkronoberg.se</a></body></html>
END:VEVENT
END:VCALENDAR