BEGIN:VCALENDAR
VERSION:2.0
BEGIN:VEVENT
URL:https://www.regionkronoberg.se/vardgivare/kompetens-utveckling/forskning-och-utveckling-fou/kalender-fou/forskningsseminarium4/
DTSTART:20260520T080000Z
DTEND:20260520T100000Z
SUMMARY:Forskningsseminarium
DESCRIPTION:Tema 1 (ej satt)\nTema 2: Kristina Lagerstedt, doktorand - utveckling av chef och ledarskap inom h&auml;lso- och sjukv&aring;rden\n\nLäs mer på regionkronoberg.se https://www.regionkronoberg.se/vardgivare/kompetens-utveckling/forskning-och-utveckling-fou/kalender-fou/forskningsseminarium4/
LOCATION:Teams
X-ALT-DESC;FMTTYPE=text/html:<html><body>Tema 1 (ej satt)<br />Tema 2: Kristina Lagerstedt, doktorand - utveckling av chef och ledarskap inom h&auml;lso- och sjukv&aring;rden<br /><br /><a href="https://www.regionkronoberg.se/vardgivare/kompetens-utveckling/forskning-och-utveckling-fou/kalender-fou/forskningsseminarium4/">Läs mer på regionkronoberg.se</a></body></html>
END:VEVENT
END:VCALENDAR