BEGIN:VCALENDAR
VERSION:2.0
BEGIN:VEVENT
URL:https://www.regionkronoberg.se/vardgivare/kompetens-utveckling/forskning-och-utveckling-fou/kalender-fou/mot-en-forskare2/
DTSTART:20260422T143000Z
DTEND:20260422T151500Z
SUMMARY:Möt en forskare
DESCRIPTION:Hur hänger diabetes och hjärtsjukdom ihop?\n\nLäs mer på regionkronoberg.se https://www.regionkronoberg.se/vardgivare/kompetens-utveckling/forskning-och-utveckling-fou/kalender-fou/mot-en-forskare2/
LOCATION:Växjö stadsbibliotek, Galaxen
X-ALT-DESC;FMTTYPE=text/html:<html><body>Hur hänger diabetes och hjärtsjukdom ihop?<br /><br /><a href="https://www.regionkronoberg.se/vardgivare/kompetens-utveckling/forskning-och-utveckling-fou/kalender-fou/mot-en-forskare2/">Läs mer på regionkronoberg.se</a></body></html>
END:VEVENT
END:VCALENDAR