BEGIN:VCALENDAR
VERSION:2.0
BEGIN:VEVENT
URL:https://www.regionkronoberg.se/vardgivare/kompetens-utveckling/forskning-och-utveckling-fou/kalender-fou/nar-varden-blir-digital-effekter-pa-ekonomi-och-kvalitet/
DTSTART:20260526T130000Z
DTEND:20260526T140000Z
SUMMARY:När vården blir digital: effekter på ekonomi och kvalitet
DESCRIPTION:Digital vård har blivit en integrerad del av primärvården, men dess faktiska betydelse för kostnader, resursanvändning och patientnytta är fortfarande föremål för diskussion. Vilka ekonomiska konsekve...\n\nLäs mer på regionkronoberg.se https://www.regionkronoberg.se/vardgivare/kompetens-utveckling/forskning-och-utveckling-fou/kalender-fou/nar-varden-blir-digital-effekter-pa-ekonomi-och-kvalitet/
LOCATION:Digitalt via zoom
X-ALT-DESC;FMTTYPE=text/html:<html><body>Digital vård har blivit en integrerad del av primärvården, men dess faktiska betydelse för kostnader, resursanvändning och patientnytta är fortfarande föremål för diskussion. Vilka ekonomiska konsekve...<br /><br /><a href="https://www.regionkronoberg.se/vardgivare/kompetens-utveckling/forskning-och-utveckling-fou/kalender-fou/nar-varden-blir-digital-effekter-pa-ekonomi-och-kvalitet/">Läs mer på regionkronoberg.se</a></body></html>
END:VEVENT
END:VCALENDAR