BEGIN:VCALENDAR
VERSION:2.0
BEGIN:VEVENT
URL:https://www.regionkronoberg.se/vardgivare/kompetens-utveckling/forskning-och-utveckling-fou/kalender-fou/natverk-for-forskningsintresserade2/
DTSTART:20260507T123000Z
DTEND:20260507T143000Z
SUMMARY:Nätverk för forskningsintresserade
DESCRIPTION:Forskningsenheten erbjuder dig med magister- eller masterexamen m&ouml;jlighet att delta i N&auml;tverket f&ouml;r forskningsintresserade, ett n&auml;tverk f&ouml;r dig som &auml;r nyfiken p&aring;, e...\n\nLäs mer på regionkronoberg.se https://www.regionkronoberg.se/vardgivare/kompetens-utveckling/forskning-och-utveckling-fou/kalender-fou/natverk-for-forskningsintresserade2/
LOCATION:Astrakan, forskningsenheten
X-ALT-DESC;FMTTYPE=text/html:<html><body>Forskningsenheten erbjuder dig med magister- eller masterexamen m&ouml;jlighet att delta i N&auml;tverket f&ouml;r forskningsintresserade, ett n&auml;tverk f&ouml;r dig som &auml;r nyfiken p&aring;, e...<br /><br /><a href="https://www.regionkronoberg.se/vardgivare/kompetens-utveckling/forskning-och-utveckling-fou/kalender-fou/natverk-for-forskningsintresserade2/">Läs mer på regionkronoberg.se</a></body></html>
END:VEVENT
END:VCALENDAR