BEGIN:VCALENDAR
VERSION:2.0
BEGIN:VEVENT
URL:https://www.regionkronoberg.se/vardgivare/kompetens-utveckling/forskning-och-utveckling-fou/kalender-fou/temadag/
DTSTART:20260519T063000Z
DTEND:20260519T140000Z
SUMMARY:Temadag Patientinvolvering i forskning
DESCRIPTION:Patientmedverkan är en viktig förutsättning för relevant och kvalitetssäkrad vård och behandling. Den svenska och europeiska standarden för personcentrerad vård tydliggör att patientperspektivet ska i...\n\nLäs mer på regionkronoberg.se https://www.regionkronoberg.se/vardgivare/kompetens-utveckling/forskning-och-utveckling-fou/kalender-fou/temadag/
LOCATION:Karl Birger Blomdahlsalen, Konserthuset
X-ALT-DESC;FMTTYPE=text/html:<html><body>Patientmedverkan är en viktig förutsättning för relevant och kvalitetssäkrad vård och behandling. Den svenska och europeiska standarden för personcentrerad vård tydliggör att patientperspektivet ska i...<br /><br /><a href="https://www.regionkronoberg.se/vardgivare/kompetens-utveckling/forskning-och-utveckling-fou/kalender-fou/temadag/">Läs mer på regionkronoberg.se</a></body></html>
END:VEVENT
END:VCALENDAR